BEGIN:VCALENDAR
VERSION:2.0
PRODID:-//fadf.org.br - ECPv6.13.2.1//NONSGML v1.0//EN
CALSCALE:GREGORIAN
METHOD:PUBLISH
X-ORIGINAL-URL:http://www.fadf.org.br
X-WR-CALDESC:Eventos para fadf.org.br
REFRESH-INTERVAL;VALUE=DURATION:PT1H
X-Robots-Tag:noindex
X-PUBLISHED-TTL:PT1H
BEGIN:VTIMEZONE
TZID:America/Sao_Paulo
BEGIN:STANDARD
TZOFFSETFROM:-0300
TZOFFSETTO:-0300
TZNAME:-03
DTSTART:20230101T000000
END:STANDARD
END:VTIMEZONE
BEGIN:VEVENT
DTSTART;VALUE=DATE:20231029
DTEND;VALUE=DATE:20231030
DTSTAMP:20260423T154156
CREATED:20230208T022814Z
LAST-MODIFIED:20230208T022814Z
UID:3710-1698537600-1698623999@www.fadf.org.br
SUMMARY:Rally da Chuva
DESCRIPTION:
URL:http://www.fadf.org.br/event/rally-da-chuva/
CATEGORIES:Eventos,Rally
ATTACH;FMTTYPE=image/png:http://www.fadf.org.br/wp-content/uploads/2023/02/rallydachuva.png
END:VEVENT
BEGIN:VEVENT
DTSTART;VALUE=DATE:20230611
DTEND;VALUE=DATE:20230612
DTSTAMP:20260423T154156
CREATED:20230208T021745Z
LAST-MODIFIED:20230208T021800Z
UID:3707-1686441600-1686527999@www.fadf.org.br
SUMMARY:Rally dos Namorados
DESCRIPTION:
URL:http://www.fadf.org.br/event/rally-dos-namorados/
CATEGORIES:Eventos,Rally
ATTACH;FMTTYPE=image/png:http://www.fadf.org.br/wp-content/uploads/2023/02/rallydosnamorados.png
END:VEVENT
BEGIN:VEVENT
DTSTART;VALUE=DATE:20230402
DTEND;VALUE=DATE:20230403
DTSTAMP:20260423T154156
CREATED:20230208T021451Z
LAST-MODIFIED:20230208T021451Z
UID:3703-1680393600-1680479999@www.fadf.org.br
SUMMARY:Rally Jeep DF
DESCRIPTION:
URL:http://www.fadf.org.br/event/rally-jeep-df/
CATEGORIES:Eventos,Rally
ATTACH;FMTTYPE=image/png:http://www.fadf.org.br/wp-content/uploads/2023/02/RALLYJEEPDF.png
END:VEVENT
BEGIN:VEVENT
DTSTART;TZID=America/Sao_Paulo:20230211T080000
DTEND;TZID=America/Sao_Paulo:20230211T170000
DTSTAMP:20260423T154156
CREATED:20230208T010503Z
LAST-MODIFIED:20230208T010618Z
UID:3690-1676102400-1676134800@www.fadf.org.br
SUMMARY:1º Etapa do CKDF 2023
DESCRIPTION:1ª Etapa – Campeonato de kart do Distrito Federal 2023
URL:http://www.fadf.org.br/event/1o-etapa-do-ckdf-2023/
LOCATION:Kartródromo do Guará\, QE 25 - Guará II\, Guará\, Brasília\, DF\, 70297-400
CATEGORIES:Eventos,Kart
ATTACH;FMTTYPE=image/png:http://www.fadf.org.br/wp-content/uploads/2023/02/1etapa-askart.png
END:VEVENT
END:VCALENDAR